BEGIN:VCALENDAR
VERSION:2.0
PRODID:-//hacksw/handcal//NONSGML v1.0//EN
CALSCALE:GREGORIAN
BEGIN:VEVENT
DTEND:20240626T150000Z
UID:69ecf7901c244
DTSTAMP:20260425T131912Z
LOCATION:SUB
DESCRIPTION:
URL;VALUE=URI:www.racc.edu/events/summer-celebration
SUMMARY:Summer Celebration
DTSTART:20240626T150000Z
END:VEVENT
END:VCALENDAR