BEGIN:VCALENDAR
VERSION:2.0
PRODID:-//hacksw/handcal//NONSGML v1.0//EN
CALSCALE:GREGORIAN
BEGIN:VEVENT
DTEND:20240220T230000Z
UID:69e812b6b4011
DTSTAMP:20260421T201342Z
LOCATION:RACC Campus
DESCRIPTION:<p>High school seniors and parents are invited to attend this informative session on applying for financial aid and completing the FAFSA\, as well as scholarship opportunities that are available at RACC.</p>

<p><strong><a href="https://racc.my.salesforce-sites.com/events/targetX_eventsb__events#/esr?eid=a1K5f0000041VGZEA2">Sign up for this event</a>.</strong></p>

URL;VALUE=URI:www.racc.edu/events/financial-aid-information-session-and-racc-scholarship-opportunities
SUMMARY:Financial Aid Information Session and RACC Scholarship Opportunities
DTSTART:20240220T230000Z
END:VEVENT
END:VCALENDAR