BEGIN:VCALENDAR
VERSION:2.0
PRODID:-//hacksw/handcal//NONSGML v1.0//EN
CALSCALE:GREGORIAN
BEGIN:VEVENT
DTEND:20240910T123000Z
UID:69e70a7e544c3
DTSTAMP:20260421T012622Z
LOCATION:STTC
DESCRIPTION:<p>Highly functioning Customer Service teams are viewed by their customers as partners\, not simply suppliers. The ability to effectively represent your company to the customer and the customer to your company is a competitive differentiator that requires skilled and aligned customer service team members.</p>

<p><strong>Focus Areas</strong></p>

<ul>
	<li>Managing dual roles: Representing the customer to your company\, and Representing your company to the customer</li>
	<li>Determining Customer Wants vs. Needs&nbsp\;</li>
	<li>Balancing a Customer vs. Product Focus</li>
	<li>Interacting with Different Customer Personality Types</li>
	<li>Knowing Your Customer’s Business</li>
	<li>Communicating Effectively: Communication Types\, Communication Model\, and Listening Skills and Blocks</li>
	<li>Handling Non-Standard and Out of Scope Requests</li>
	<li>Dealing with Difficult Customer Situations</li>
	<li>Managing Time and Tasks in a Customer Service Environment</li>
	<li>Analyzing a Customer SWOT</li>
</ul>

<p>All sessions are from 8:30 a.m. - 3:30 p.m.\, lunch will be provided.</p>

URL;VALUE=URI:www.racc.edu/events/sttc-delivering-superior-customer-service
SUMMARY:STTC: Delivering Superior Customer Service
DTSTART:20240910T123000Z
END:VEVENT
END:VCALENDAR