BEGIN:VCALENDAR
VERSION:2.0
PRODID:-//hacksw/handcal//NONSGML v1.0//EN
CALSCALE:GREGORIAN
BEGIN:VEVENT
DTEND:20251212T120000Z
UID:69e8b4debfe57
DTSTAMP:20260422T074534Z
LOCATION:Reading Area Community College
DESCRIPTION:
URL;VALUE=URI:www.racc.edu/events/fall-2nd-bi-term-7-weeks-ends
SUMMARY:Fall 2nd Bi-Term Ends (8 Weeks) 
DTSTART:20251212T120000Z
END:VEVENT
END:VCALENDAR