BEGIN:VCALENDAR
VERSION:2.0
PRODID:-//hacksw/handcal//NONSGML v1.0//EN
CALSCALE:GREGORIAN
BEGIN:VEVENT
DTEND:20261125T120000Z
UID:69e655f4a837b
DTSTAMP:20260420T123604Z
LOCATION:Reading Area Community College
DESCRIPTION:
URL;VALUE=URI:www.racc.edu/events/thanksgiving-break-college-closed
SUMMARY:Thanksgiving Break – No Credit Classes/College Closed
DTSTART:20261125T120000Z
END:VEVENT
END:VCALENDAR