BEGIN:VCALENDAR
VERSION:2.0
PRODID:-//hacksw/handcal//NONSGML v1.0//EN
CALSCALE:GREGORIAN
BEGIN:VEVENT
DTEND:20250731T113000Z
UID:69e7126e53413
DTSTAMP:20260421T020014Z
LOCATION:Reading Area Community College
DESCRIPTION:
URL;VALUE=URI:www.racc.edu/events/summer-3-ends-final-exams
SUMMARY:Summer 3 Ends (8 Weeks)
DTSTART:20250731T113000Z
END:VEVENT
END:VCALENDAR