BEGIN:VCALENDAR
VERSION:2.0
PRODID:-//hacksw/handcal//NONSGML v1.0//EN
CALSCALE:GREGORIAN
BEGIN:VEVENT
DTEND:20261127T120000Z
UID:69ea3eb67e9c9
DTSTAMP:20260423T114558Z
LOCATION: Reading Area Community College
DESCRIPTION:
URL;VALUE=URI:www.racc.edu/events/thanksgiving-break
SUMMARY:Thanksgiving Break - No Credit Classes/College Open
DTSTART:20261127T120000Z
END:VEVENT
END:VCALENDAR